BEGIN:VCALENDAR
VERSION:2.0
PRODID:-//Caribbean Association of Pharmacists - ECPv6.15.20//NONSGML v1.0//EN
CALSCALE:GREGORIAN
METHOD:PUBLISH
X-WR-CALNAME:Caribbean Association of Pharmacists
X-ORIGINAL-URL:https://cap-pharmacists.com
X-WR-CALDESC:Events for Caribbean Association of Pharmacists
REFRESH-INTERVAL;VALUE=DURATION:PT1H
X-Robots-Tag:noindex
X-PUBLISHED-TTL:PT1H
BEGIN:VTIMEZONE
TZID:America/Jamaica
BEGIN:STANDARD
TZOFFSETFROM:-0500
TZOFFSETTO:-0500
TZNAME:EST
DTSTART:20250101T000000
END:STANDARD
END:VTIMEZONE
BEGIN:VEVENT
DTSTART;VALUE=DATE:20260529
DTEND;VALUE=DATE:20260601
DTSTAMP:20260422T221916
CREATED:20260401T204213Z
LAST-MODIFIED:20260401T204913Z
UID:16601-1780012800-1780271999@cap-pharmacists.com
SUMMARY:Spring Meeting 2026
DESCRIPTION:Join CAP for the 2026 Spring Meeting\nIn collaboration with the Pharmacists’ Association of Belize\nMay 29-31\, 2026\nBelize City\, Belize\nTHEME: Pharmacists: Transforming Healthcare through Optimal Patient Outcomes\n\n			\n				\n			\n			\n				\n			\n		\n\n  \nREGISTRATION RATES\nONLINE DELEGATES\nCAP Members – US$35\nCAP Non-Financial or Non-members – US$50 \nONSITE VISITING DELEGATES\nCAP Members – US$60\nCAP Non-Financial or Non-members – US$90 \nREGISTRATION FORM\nComplete the Registration Form \nPAYMENT OF REGISTRATION RATES &/or MEMBERSHIP DUES\nTo make payment of Registration rates &/or Membership dues go to Make a Payment \nACCOMMODATION DETAILS to follow
URL:https://cap-pharmacists.com/event/spring-meeting-2026/
LOCATION:Belize City\, Belize\, Belize City\, Belize
ATTACH;FMTTYPE=image/webp:https://cap-pharmacists.com/wp-content/uploads/2026/04/Spring-Meeting-2026-Save-the-Date.webp
END:VEVENT
BEGIN:VEVENT
DTSTART;VALUE=DATE:20260817
DTEND;VALUE=DATE:20260824
DTSTAMP:20260422T221916
CREATED:20260206T180543Z
LAST-MODIFIED:20260213T213908Z
UID:16525-1786924800-1787529599@cap-pharmacists.com
SUMMARY:CAP & Pharmaceutical Society of Jamaica Joint Annual Conference 2026
DESCRIPTION:Pay Registration Online
URL:https://cap-pharmacists.com/event/cap-pharmaceutical-society-of-jamaica-joint-annual-conference-2026/
ATTACH;FMTTYPE=image/webp:https://cap-pharmacists.com/wp-content/uploads/2026/02/CAP-Jamaica-Conference-2026-Banner.webp
END:VEVENT
END:VCALENDAR